BEGIN:VCALENDAR
VERSION:2.0
PRODID:-//The Orlando Concert Band - ECPv6.0.8//NONSGML v1.0//EN
CALSCALE:GREGORIAN
METHOD:PUBLISH
X-ORIGINAL-URL:https://orlandoconcertband.org
X-WR-CALDESC:Events for The Orlando Concert Band
REFRESH-INTERVAL;VALUE=DURATION:PT1H
X-Robots-Tag:noindex
X-PUBLISHED-TTL:PT1H
BEGIN:VTIMEZONE
TZID:America/New_York
BEGIN:DAYLIGHT
TZOFFSETFROM:-0500
TZOFFSETTO:-0400
TZNAME:EDT
DTSTART:20240310T070000
END:DAYLIGHT
BEGIN:STANDARD
TZOFFSETFROM:-0400
TZOFFSETTO:-0500
TZNAME:EST
DTSTART:20241103T060000
END:STANDARD
END:VTIMEZONE
BEGIN:VEVENT
DTSTART;TZID=America/New_York:20240426T190000
DTEND;TZID=America/New_York:20240426T210000
DTSTAMP:20260420T121014
CREATED:20231006T133141Z
LAST-MODIFIED:20231006T133141Z
UID:6579-1714158000-1714165200@orlandoconcertband.org
SUMMARY:A Centennial Glance: Music from 1924
DESCRIPTION:A Centennial Glance: Music from 1924 \nFriday\, April 26\, 2024  *  7:00 PM \nSt. Luke’s Lutheran\, Oviedo
URL:https://orlandoconcertband.org/event/a-centennial-glance-music-from-1924/
LOCATION:Cathedral Church of Saint Luke\, 130 N. Magnolia Avenue\, Orlando\, FL\, 32801\, United States
ATTACH;FMTTYPE=image/jpeg:https://orlandoconcertband.org/wp-content/uploads/2023/10/1924_music.jpg
END:VEVENT
END:VCALENDAR