BEGIN:VCALENDAR
VERSION:2.0
PRODID:-//The Orlando Concert Band - ECPv6.0.8//NONSGML v1.0//EN
CALSCALE:GREGORIAN
METHOD:PUBLISH
X-ORIGINAL-URL:https://orlandoconcertband.org
X-WR-CALDESC:Events for The Orlando Concert Band
REFRESH-INTERVAL;VALUE=DURATION:PT1H
X-Robots-Tag:noindex
X-PUBLISHED-TTL:PT1H
BEGIN:VTIMEZONE
TZID:America/New_York
BEGIN:DAYLIGHT
TZOFFSETFROM:-0500
TZOFFSETTO:-0400
TZNAME:EDT
DTSTART:20240310T070000
END:DAYLIGHT
BEGIN:STANDARD
TZOFFSETFROM:-0400
TZOFFSETTO:-0500
TZNAME:EST
DTSTART:20241103T060000
END:STANDARD
BEGIN:DAYLIGHT
TZOFFSETFROM:-0500
TZOFFSETTO:-0400
TZNAME:EDT
DTSTART:20250309T070000
END:DAYLIGHT
BEGIN:STANDARD
TZOFFSETFROM:-0400
TZOFFSETTO:-0500
TZNAME:EST
DTSTART:20251102T060000
END:STANDARD
BEGIN:DAYLIGHT
TZOFFSETFROM:-0500
TZOFFSETTO:-0400
TZNAME:EDT
DTSTART:20260308T070000
END:DAYLIGHT
BEGIN:STANDARD
TZOFFSETFROM:-0400
TZOFFSETTO:-0500
TZNAME:EST
DTSTART:20261101T060000
END:STANDARD
END:VTIMEZONE
BEGIN:VEVENT
DTSTART;TZID=America/New_York:20240527T093000
DTEND;TZID=America/New_York:20240527T113000
DTSTAMP:20260419T184916
CREATED:20231006T133715Z
LAST-MODIFIED:20231006T134016Z
UID:6582-1716802200-1716809400@orlandoconcertband.org
SUMMARY:Memorial Day Service
DESCRIPTION:Memorial Day Service \nMonday\, May 27\, 2024  *  9:30 AM \nWoodlawn Memorial Park\, Gotha
URL:https://orlandoconcertband.org/event/memorial-day-service/
LOCATION:Woodlawn Memorial Park\, 400 Woodlawn Cemetery Rd.\, Gotha\, FL\, 34734\, United States
ATTACH;FMTTYPE=image/jpeg:https://orlandoconcertband.org/wp-content/uploads/2023/10/memorial_day.jpg
END:VEVENT
BEGIN:VEVENT
DTSTART;TZID=America/New_York:20240704T200000
DTEND;TZID=America/New_York:20240704T220000
DTSTAMP:20260419T184916
CREATED:20231006T134313Z
LAST-MODIFIED:20231006T134313Z
UID:6585-1720123200-1720130400@orlandoconcertband.org
SUMMARY:Fireworks at the Fountain
DESCRIPTION:Fireworks at the Fountain \nThursday\, July 4\, 2024  *  8:00 PM \nDisney Amphitheater at Lake Eola\, Orlando
URL:https://orlandoconcertband.org/event/fireworks-at-the-fountain-3/
LOCATION:Lake Eola Park: Walt Disney Amphitheater\, 195 N. Rosalind Ave.\, Orlando\, FL\, 32801\, United States
ATTACH;FMTTYPE=image/jpeg:https://orlandoconcertband.org/wp-content/uploads/2023/10/july_4.jpg
END:VEVENT
BEGIN:VEVENT
DTSTART;TZID=America/New_York:20241013T140000
DTEND;TZID=America/New_York:20241013T170000
DTSTAMP:20260419T184916
CREATED:20240918T194106Z
LAST-MODIFIED:20240918T195045Z
UID:6625-1728828000-1728838800@orlandoconcertband.org
SUMMARY:Anniversary Concert  -  October 13 2024
DESCRIPTION:
URL:https://orlandoconcertband.org/event/anniversary-concert-october-13-2024/
LOCATION:Cathedral Church of Saint Luke\, 130 N. Magnolia Avenue\, Orlando\, FL\, 32801\, United States
END:VEVENT
BEGIN:VEVENT
DTSTART;TZID=America/New_York:20241110T150000
DTEND;TZID=America/New_York:20241110T170000
DTSTAMP:20260419T184916
CREATED:20241104T170825Z
LAST-MODIFIED:20241104T171015Z
UID:6632-1731250800-1731258000@orlandoconcertband.org
SUMMARY:A Symphonic Showcase
DESCRIPTION:A Symphonic Showcase
URL:https://orlandoconcertband.org/event/6632/
LOCATION:Oviedo First Methodist Church\, 263 King St\, Oviedo\, FL\, 32765\, United States
END:VEVENT
BEGIN:VEVENT
DTSTART;TZID=America/New_York:20241206T190000
DTEND;TZID=America/New_York:20241206T220000
DTSTAMP:20260419T184916
CREATED:20241107T132854Z
LAST-MODIFIED:20241107T132854Z
UID:6646-1733511600-1733522400@orlandoconcertband.org
SUMMARY:Holiday Favorites with Flamenco del Sol
DESCRIPTION:Holiday Favorites with Flamenco del Sol
URL:https://orlandoconcertband.org/event/holiday-favorites-with-flamenco-del-sol/
LOCATION:Lake Eola Park: Walt Disney Amphitheater\, 195 N. Rosalind Ave.\, Orlando\, FL\, 32801\, United States
END:VEVENT
BEGIN:VEVENT
DTSTART;TZID=America/New_York:20250220T193000
DTEND;TZID=America/New_York:20250220T233000
DTSTAMP:20260419T184916
CREATED:20241107T133055Z
LAST-MODIFIED:20241107T133304Z
UID:6648-1740079800-1740094200@orlandoconcertband.org
SUMMARY:A Program of Symphonic Band Classics
DESCRIPTION:A Program of Symphonic Band Classics
URL:https://orlandoconcertband.org/event/a-program-of-symphonic-band-classics/
LOCATION:Valencia College East Campus\, 701 N Econlockhatchee Trail\, Orlando\, FL\, 32825\, United States
END:VEVENT
BEGIN:VEVENT
DTSTART;TZID=America/New_York:20250404T190000
DTEND;TZID=America/New_York:20250404T220000
DTSTAMP:20260419T184916
CREATED:20241104T172522Z
LAST-MODIFIED:20241104T172522Z
UID:6638-1743793200-1743804000@orlandoconcertband.org
SUMMARY:Musical Nationalism
DESCRIPTION:Musical Nationalism
URL:https://orlandoconcertband.org/event/musical-nationalism/
LOCATION:Saint Luke’s Lutheran Church\, 2021 W. State Road 426\, Oviedo\, FL\, 32765\, United States
END:VEVENT
BEGIN:VEVENT
DTSTART;TZID=America/New_York:20250509T193000
DTEND;TZID=America/New_York:20250509T223000
DTSTAMP:20260419T184916
CREATED:20241104T172811Z
LAST-MODIFIED:20241104T172811Z
UID:6640-1746819000-1746829800@orlandoconcertband.org
SUMMARY:Majestic and Honorable
DESCRIPTION:Majestic and Honorable – featuring organist Bill Picher
URL:https://orlandoconcertband.org/event/majestic-and-honorable/
LOCATION:Basilica of the National Shrine of Mary\, Queen of the Universe\, 8300 Vineland Avenue\, Orlando\, FL\, 32821\, United States
END:VEVENT
BEGIN:VEVENT
DTSTART;TZID=America/New_York:20250526T093000
DTEND;TZID=America/New_York:20250526T103000
DTSTAMP:20260419T184916
CREATED:20241104T173226Z
LAST-MODIFIED:20241104T173226Z
UID:6642-1748251800-1748255400@orlandoconcertband.org
SUMMARY:Honoring our Fallen Heroes
DESCRIPTION:Honoring our Fallen Heroes
URL:https://orlandoconcertband.org/event/honoring-our-fallen-heroes/
LOCATION:Woodlawn Memorial Park\, 400 Woodlawn Cemetery Rd.\, Gotha\, FL\, 34734\, United States
END:VEVENT
BEGIN:VEVENT
DTSTART;TZID=America/New_York:20250704T200000
DTEND;TZID=America/New_York:20250704T220000
DTSTAMP:20260419T184916
CREATED:20241104T173517Z
LAST-MODIFIED:20241104T173711Z
UID:6644-1751659200-1751666400@orlandoconcertband.org
SUMMARY:Celebrating our Nation
DESCRIPTION:Celebrating our Nation
URL:https://orlandoconcertband.org/event/celebrating-our-nation/
LOCATION:Lake Eola Park: Walt Disney Amphitheater\, 195 N. Rosalind Ave.\, Orlando\, FL\, 32801\, United States
END:VEVENT
BEGIN:VEVENT
DTSTART;TZID=America/New_York:20251109T150000
DTEND;TZID=America/New_York:20251109T170000
DTSTAMP:20260419T184916
CREATED:20251028T030633Z
LAST-MODIFIED:20251028T034034Z
UID:6651-1762700400-1762707600@orlandoconcertband.org
SUMMARY:A Salute to America’s Veterans
DESCRIPTION:
URL:https://orlandoconcertband.org/event/a-salute-to-americas-veterans/
LOCATION:Clermont Performing Arts Center\, 3700 US-27 S\, Clermont\, 34711\, United States
END:VEVENT
BEGIN:VEVENT
DTSTART;TZID=America/New_York:20251205T190000
DTEND;TZID=America/New_York:20251205T210000
DTSTAMP:20260419T184916
CREATED:20251028T030949Z
LAST-MODIFIED:20251028T035811Z
UID:6655-1764961200-1764968400@orlandoconcertband.org
SUMMARY:Orlando Tree Lighting
DESCRIPTION:
URL:https://orlandoconcertband.org/event/orlando-tree-lighting/
LOCATION:Lake Eola Park: Walt Disney Amphitheater\, 195 N. Rosalind Ave.\, Orlando\, FL\, 32801\, United States
END:VEVENT
BEGIN:VEVENT
DTSTART;TZID=America/New_York:20260226T193000
DTEND;TZID=America/New_York:20260226T203000
DTSTAMP:20260419T184916
CREATED:20251028T031253Z
LAST-MODIFIED:20260124T205011Z
UID:6657-1772134200-1772137800@orlandoconcertband.org
SUMMARY:Collaboration with Valencia College
DESCRIPTION:7:30pm – 8:30pm
URL:https://orlandoconcertband.org/event/collaboration-with-valencia-college/
LOCATION:Valencia College East Campus\, 701 N Econlockhatchee Trail\, Orlando\, FL\, 32825\, United States
END:VEVENT
BEGIN:VEVENT
DTSTART;TZID=America/New_York:20260308T140000
DTEND;TZID=America/New_York:20260308T160000
DTSTAMP:20260419T184916
CREATED:20251028T031852Z
LAST-MODIFIED:20260124T205146Z
UID:6659-1772978400-1772985600@orlandoconcertband.org
SUMMARY:Saluting America
DESCRIPTION:2pm – 4pm
URL:https://orlandoconcertband.org/event/saluting-america/
LOCATION:Cathedral Church of Saint Luke\, 130 N. Magnolia Avenue\, Orlando\, FL\, 32801\, United States
END:VEVENT
BEGIN:VEVENT
DTSTART;TZID=America/New_York:20260417T190000
DTEND;TZID=America/New_York:20260417T210000
DTSTAMP:20260419T184916
CREATED:20251028T033234Z
LAST-MODIFIED:20260124T205357Z
UID:6662-1776452400-1776459600@orlandoconcertband.org
SUMMARY:Inspired by the Sea
DESCRIPTION:St. Luke’s Oviedo Concert Series\n7pm – 9pm
URL:https://orlandoconcertband.org/event/inspired-by-the-sea/
LOCATION:Saint Luke’s Lutheran Church\, 2021 W. State Road 426\, Oviedo\, FL\, 32765\, United States
END:VEVENT
BEGIN:VEVENT
DTSTART;TZID=America/New_York:20260525T093000
DTEND;TZID=America/New_York:20260525T103000
DTSTAMP:20260419T184916
CREATED:20251028T040024Z
LAST-MODIFIED:20251028T040024Z
UID:6673-1779701400-1779705000@orlandoconcertband.org
SUMMARY:Woodlawn Memorial Day Ceremony
DESCRIPTION:9:30 am / 10:00 am
URL:https://orlandoconcertband.org/event/woodlawn-memorial-day-ceremony/
LOCATION:Woodlawn Memorial Park\, 400 Woodlawn Cemetery Rd.\, Gotha\, FL\, 34734\, United States
END:VEVENT
BEGIN:VEVENT
DTSTART;TZID=America/New_York:20260704T200000
DTEND;TZID=America/New_York:20260704T220000
DTSTAMP:20260419T184916
CREATED:20251028T040404Z
LAST-MODIFIED:20260124T205452Z
UID:6675-1783195200-1783202400@orlandoconcertband.org
SUMMARY:Fireworks at the Fountain
DESCRIPTION:8pm – 10pm
URL:https://orlandoconcertband.org/event/fireworks-at-the-fountain-4/
LOCATION:Lake Eola Park: Walt Disney Amphitheater\, 195 N. Rosalind Ave.\, Orlando\, FL\, 32801\, United States
END:VEVENT
END:VCALENDAR