BEGIN:VCALENDAR
VERSION:2.0
PRODID:-//The Orlando Concert Band - ECPv6.0.8//NONSGML v1.0//EN
CALSCALE:GREGORIAN
METHOD:PUBLISH
X-WR-CALNAME:The Orlando Concert Band
X-ORIGINAL-URL:https://orlandoconcertband.org
X-WR-CALDESC:Events for The Orlando Concert Band
REFRESH-INTERVAL;VALUE=DURATION:PT1H
X-Robots-Tag:noindex
X-PUBLISHED-TTL:PT1H
BEGIN:VTIMEZONE
TZID:America/New_York
BEGIN:DAYLIGHT
TZOFFSETFROM:-0500
TZOFFSETTO:-0400
TZNAME:EDT
DTSTART:20190310T070000
END:DAYLIGHT
BEGIN:STANDARD
TZOFFSETFROM:-0400
TZOFFSETTO:-0500
TZNAME:EST
DTSTART:20191103T060000
END:STANDARD
END:VTIMEZONE
BEGIN:VEVENT
DTSTART;TZID=America/New_York:20191110T150000
DTEND;TZID=America/New_York:20191110T170000
DTSTAMP:20260419T234405
CREATED:20190929T132343Z
LAST-MODIFIED:20191018T045509Z
UID:6057-1573398000-1573405200@orlandoconcertband.org
SUMMARY:Let Freedom Ring
DESCRIPTION:The Orlando Concert Band and organist Michael Petrosh salute the Armed Forces with a free Veterans Day concert featuring favorites like Battle Hymn of the Republic\, America the Beautiful\, God Bless America\, and rousing Sousa marches!
URL:https://orlandoconcertband.org/event/let-freedom-ring/
LOCATION:FL
ATTACH;FMTTYPE=image/jpeg:https://orlandoconcertband.org/wp-content/uploads/2015/09/banner1-1920px-1.jpg
END:VEVENT
BEGIN:VEVENT
DTSTART;TZID=America/New_York:20190704T200000
DTEND;TZID=America/New_York:20190704T220000
DTSTAMP:20260419T234405
CREATED:20190626T225215Z
LAST-MODIFIED:20190627T003352Z
UID:6039-1562270400-1562277600@orlandoconcertband.org
SUMMARY:Fireworks at the Fountain
DESCRIPTION:The Orlando Concert Band presents a concert of patriotic and American songs followed by a fireworks extravaganza.
URL:https://orlandoconcertband.org/event/fireworks-at-the-fountain/
LOCATION:Hawthorne Village Concert Hall\, 100 Hawthorne Boulevard\, Concert Hall\, Leesburg\, FL\, 34748\, United States
ATTACH;FMTTYPE=image/jpeg:https://orlandoconcertband.org/wp-content/uploads/2019/06/ocb-stage.jpg
END:VEVENT
END:VCALENDAR