BEGIN:VCALENDAR
VERSION:2.0
PRODID:-//The Orlando Concert Band - ECPv6.0.8//NONSGML v1.0//EN
CALSCALE:GREGORIAN
METHOD:PUBLISH
X-WR-CALNAME:The Orlando Concert Band
X-ORIGINAL-URL:https://orlandoconcertband.org
X-WR-CALDESC:Events for The Orlando Concert Band
REFRESH-INTERVAL;VALUE=DURATION:PT1H
X-Robots-Tag:noindex
X-PUBLISHED-TTL:PT1H
BEGIN:VTIMEZONE
TZID:America/New_York
BEGIN:DAYLIGHT
TZOFFSETFROM:-0500
TZOFFSETTO:-0400
TZNAME:EDT
DTSTART:20190310T070000
END:DAYLIGHT
BEGIN:STANDARD
TZOFFSETFROM:-0400
TZOFFSETTO:-0500
TZNAME:EST
DTSTART:20191103T060000
END:STANDARD
BEGIN:DAYLIGHT
TZOFFSETFROM:-0500
TZOFFSETTO:-0400
TZNAME:EDT
DTSTART:20200308T070000
END:DAYLIGHT
BEGIN:STANDARD
TZOFFSETFROM:-0400
TZOFFSETTO:-0500
TZNAME:EST
DTSTART:20201101T060000
END:STANDARD
BEGIN:DAYLIGHT
TZOFFSETFROM:-0500
TZOFFSETTO:-0400
TZNAME:EDT
DTSTART:20210314T070000
END:DAYLIGHT
BEGIN:STANDARD
TZOFFSETFROM:-0400
TZOFFSETTO:-0500
TZNAME:EST
DTSTART:20211107T060000
END:STANDARD
BEGIN:DAYLIGHT
TZOFFSETFROM:-0500
TZOFFSETTO:-0400
TZNAME:EDT
DTSTART:20220313T070000
END:DAYLIGHT
BEGIN:STANDARD
TZOFFSETFROM:-0400
TZOFFSETTO:-0500
TZNAME:EST
DTSTART:20221106T060000
END:STANDARD
BEGIN:DAYLIGHT
TZOFFSETFROM:-0500
TZOFFSETTO:-0400
TZNAME:EDT
DTSTART:20230312T070000
END:DAYLIGHT
BEGIN:STANDARD
TZOFFSETFROM:-0400
TZOFFSETTO:-0500
TZNAME:EST
DTSTART:20231105T060000
END:STANDARD
END:VTIMEZONE
BEGIN:VEVENT
DTSTART;TZID=America/New_York:20230305T150000
DTEND;TZID=America/New_York:20230305T170000
DTSTAMP:20260419T233349
CREATED:20220818T141032Z
LAST-MODIFIED:20220818T141032Z
UID:6264-1678028400-1678035600@orlandoconcertband.org
SUMMARY:Apopka Calvary Church of the Nazarene
DESCRIPTION:Apopka Calvary Church of the Nazarene\nSunday\, March 5\, 2023@3:00 PM\n750 Roger Williams Road S.\, Apopka\, FL
URL:https://orlandoconcertband.org/event/apopka-calvary-church-of-the-nazarene/
LOCATION:Apopka Calvary Church of the Nazarene\, 750 Roger Williams Road S\, Apopka\, FL\, 32703\, United States
END:VEVENT
BEGIN:VEVENT
DTSTART;TZID=America/New_York:20230120T190000
DTEND;TZID=America/New_York:20230120T210000
DTSTAMP:20260419T233349
CREATED:20220804T152916Z
LAST-MODIFIED:20220804T152916Z
UID:6232-1674241200-1674248400@orlandoconcertband.org
SUMMARY:Saint Luke's Concert Series
DESCRIPTION:Saint Luke’s Concert Series\nJanuary 20\, 2023 @ 7:00 PM\nSaint Luke’s Lutheran Church\n2021 W. State Road 426\, Oviedo\, FL
URL:https://orlandoconcertband.org/event/saint-lukes-concert-series/
LOCATION:Saint Luke’s Lutheran Church\, 2021 W. State Road 426\, Oviedo\, FL\, 32765\, United States
END:VEVENT
BEGIN:VEVENT
DTSTART;TZID=America/New_York:20221202T190000
DTEND;TZID=America/New_York:20221202T210000
DTSTAMP:20260419T233349
CREATED:20220804T152711Z
LAST-MODIFIED:20220804T152711Z
UID:6229-1670007600-1670014800@orlandoconcertband.org
SUMMARY:Christmas Tree Lighting
DESCRIPTION:December 2\, 2022 @ 7:00 PM “Christmas Tree Lighting”\nLake Eola Park: Walt Disney Amphitheater\n195 N. Rosalind Avenue\, Orlando\, FL
URL:https://orlandoconcertband.org/event/christmas-tree-lighting/
LOCATION:Lake Eola Park: Walt Disney Amphitheater\, 195 N. Rosalind Ave.\, Orlando\, FL\, 32801\, United States
END:VEVENT
BEGIN:VEVENT
DTSTART;TZID=America/New_York:20221113T140000
DTEND;TZID=America/New_York:20221113T160000
DTSTAMP:20260419T233349
CREATED:20220804T152151Z
LAST-MODIFIED:20221103T135157Z
UID:6225-1668348000-1668355200@orlandoconcertband.org
SUMMARY:A Salute to Those Who Served
DESCRIPTION:November 13\, 2022 @ 2:00 PM “A Salute to Those Who Served”\nCathedral Church of Saint Luke\n130 N. Magnolia Avenue\, Orlando\, FL
URL:https://orlandoconcertband.org/event/veterans-day-concert-2/
LOCATION:Cathedral Church of Saint Luke\, 130 N. Magnolia Avenue\, Orlando\, FL\, 32801\, United States
END:VEVENT
BEGIN:VEVENT
DTSTART;TZID=America/New_York:20221110T191500
DTEND;TZID=America/New_York:20221110T201500
DTSTAMP:20260419T233349
CREATED:20220906T135428Z
LAST-MODIFIED:20220906T195543Z
UID:6280-1668107700-1668111300@orlandoconcertband.org
SUMMARY:This Is My Song: A Veterans Day Concert
DESCRIPTION:November 10\, 2022 7:15 PM\n“This Is My Song: A Veterans Day Concert”\nSt. Luke’s United Methodist Church\n4851 S Apopka-Vineland Road\nOrlando\, FL 32819
URL:https://orlandoconcertband.org/event/this-is-my-song-a-veterans-day-concert/
LOCATION:St. Luke’s United Methodist Church\, 4851 S Apopka-Vineland Road\, Orlando\, FL\, 32819\, United States
END:VEVENT
BEGIN:VEVENT
DTSTART;TZID=America/New_York:20211121T150000
DTEND;TZID=America/New_York:20211121T160000
DTSTAMP:20260419T233349
CREATED:20190929T135501Z
LAST-MODIFIED:20211113T165106Z
UID:6080-1637506800-1637510400@orlandoconcertband.org
SUMMARY:Preserving America’s Musical Heritage
DESCRIPTION:Hawthorne Village Concert Series –\nSunday\, November 21\, 2021\, 3:00 PM
URL:https://orlandoconcertband.org/event/preserving-americas-heritage/
LOCATION:Hawthorne Village Concert Hall\, 100 Hawthorne Boulevard\, Concert Hall\, Leesburg\, FL\, 34748\, United States
END:VEVENT
BEGIN:VEVENT
DTSTART;TZID=America/New_York:20211114T140000
DTEND;TZID=America/New_York:20211114T150000
DTSTAMP:20260419T233349
CREATED:20211107T230007Z
LAST-MODIFIED:20211113T154948Z
UID:6168-1636898400-1636902000@orlandoconcertband.org
SUMMARY:Salute to Our Veterans
DESCRIPTION:Cathedral Church of St. Luke\, Orlando\nNovember 14\, 2021 2:00 PM
URL:https://orlandoconcertband.org/event/veterans-day-concert/
LOCATION:FL
END:VEVENT
BEGIN:VEVENT
DTSTART;TZID=America/New_York:20200525T093000
DTEND;TZID=America/New_York:20200525T110000
DTSTAMP:20260419T233349
CREATED:20190929T135306Z
LAST-MODIFIED:20200524T042119Z
UID:6077-1590399000-1590404400@orlandoconcertband.org
SUMMARY:A Memorial Day Remembrance
DESCRIPTION:The Orlando Concert Band presents a concert to honor those individuals who gave their lives in the service of their country.  An Orlando Concert Band brass sextet accompanied by vocalist Keith Bolves will perform patriotic music to honor those individuals who gave their lives in the service of their country.  While live attendance will not be permitted\, “Woodlawn Cemetery” will video tape the solemn program and have it available later in the day for viewing on their Facebook page.
URL:https://orlandoconcertband.org/event/a-memorial-day-remembrance/
LOCATION:Woodlawn Memorial Park\, 400 Woodlawn Cemetery Rd.\, Gotha\, FL\, 34734\, United States
ATTACH;FMTTYPE=image/jpeg:https://orlandoconcertband.org/wp-content/uploads/2019/09/OCB-Memorial.Veterans-Day-Poster-e1582062550863.jpg
END:VEVENT
BEGIN:VEVENT
DTSTART;TZID=America/New_York:20200308T150000
DTEND;TZID=America/New_York:20200308T170000
DTSTAMP:20260419T233349
CREATED:20190929T134956Z
LAST-MODIFIED:20200218T225430Z
UID:6074-1583679600-1583686800@orlandoconcertband.org
SUMMARY:As Seen on the Stage and Big Screen
DESCRIPTION:Apopka Calvary Church of the Nazarene welcomes the Orlando Concert Band for this special concert celebrating the music that remains with us as we remember the on-stage/on-screen performances. Selections include music from Aladdin\, Beauty and the Beast\, Jesus Christ Superstar\, and West Side Story. Our guest vocalist\, Ms. Lina Territo\, will be featured on “Moon River” and “Over the Rainbow”.
URL:https://orlandoconcertband.org/event/as-seen-on-the-stage-and-big-screen-2/
LOCATION:Calvary Church of the Nazarene\, 750 Roger Williams Rd\, Apopka\, FL 32703\, Apopka\, FL\, 32703\, United States
ATTACH;FMTTYPE=image/jpeg:https://orlandoconcertband.org/wp-content/uploads/2019/09/OCB-Poster-March.2020-e1582066451970.jpg
END:VEVENT
BEGIN:VEVENT
DTSTART;TZID=America/New_York:20200301T180000
DTEND;TZID=America/New_York:20200301T200000
DTSTAMP:20260419T233349
CREATED:20190929T134644Z
LAST-MODIFIED:20200218T224402Z
UID:6071-1583085600-1583092800@orlandoconcertband.org
SUMMARY:As Seen on the Stage and Big Screen
DESCRIPTION:The Prince of Peace Concert Series is honored to host the Orlando Concert Band for this special concert celebrating the music that remains with us as we remember the on-stage/on-screen performances.  Selections include music from Aladdin\, Beauty and the Beast\, Jesus Christ Superstar\, and West Side Story. Our guest vocalist\, Ms. Lina Territo\, will be featured on “Moon River” and “Over the Rainbow”.
URL:https://orlandoconcertband.org/event/as-seen-on-the-stage-and-big-screen/
LOCATION:Prince of Peace Lutheran Church\, 1515 South Semoran Blvd.\, Orlando\, FL\, 32807\, United States
ATTACH;FMTTYPE=image/png:https://orlandoconcertband.org/wp-content/uploads/2019/09/312020.png
END:VEVENT
BEGIN:VEVENT
DTSTART;TZID=America/New_York:20200125T190000
DTEND;TZID=America/New_York:20200125T210000
DTSTAMP:20260419T233349
CREATED:20190929T134419Z
LAST-MODIFIED:20190929T134419Z
UID:6069-1579978800-1579986000@orlandoconcertband.org
SUMMARY:Entertainment Before Television
DESCRIPTION:The Orlando Concert Band presents an evening of music that stimulates the senses as you are brought back to a time before television. The Friday night concert is an open dress rehearsal.
URL:https://orlandoconcertband.org/event/entertainment-before-television-2/
LOCATION:FL
ATTACH;FMTTYPE=image/jpeg:https://orlandoconcertband.org/wp-content/uploads/2017/10/22450142_1583599741686497_6641732104523247110_n.jpg
END:VEVENT
BEGIN:VEVENT
DTSTART;TZID=America/New_York:20200124T190000
DTEND;TZID=America/New_York:20200124T210000
DTSTAMP:20260419T233349
CREATED:20190929T134219Z
LAST-MODIFIED:20190929T161951Z
UID:6067-1579892400-1579899600@orlandoconcertband.org
SUMMARY:Entertainment Before Television
DESCRIPTION:The Orlando Concert Band presents an evening of music that stimulates the senses as you are brought back to a time before television. **The Friday night concert is an open dress rehearsal for the performance on the Saturday\, January 25th.
URL:https://orlandoconcertband.org/event/entertainment-before-television/
LOCATION:FL
ATTACH;FMTTYPE=image/jpeg:https://orlandoconcertband.org/wp-content/uploads/2017/10/22450142_1583599741686497_6641732104523247110_n.jpg
END:VEVENT
BEGIN:VEVENT
DTSTART;TZID=America/New_York:20191206T181500
DTEND;TZID=America/New_York:20191206T210000
DTSTAMP:20260419T233349
CREATED:20190929T133342Z
LAST-MODIFIED:20190929T133342Z
UID:6062-1575656100-1575666000@orlandoconcertband.org
SUMMARY:Light Up Orlando!
DESCRIPTION:The Orlando Concert Band presents a concert of holiday favorites followed by a program that brings the Christmas spirit to life with a ceremonial first lighting of Lake Eola Park’s 72-foot Christmas tree.
URL:https://orlandoconcertband.org/event/light-up-orlando/
LOCATION:Hawthorne Village Concert Hall\, 100 Hawthorne Boulevard\, Concert Hall\, Leesburg\, FL\, 34748\, United States
ATTACH;FMTTYPE=image/jpeg:https://orlandoconcertband.org/wp-content/uploads/2019/09/67025728_2410077632372033_6218232442600292352_o.jpg
END:VEVENT
BEGIN:VEVENT
DTSTART;TZID=America/New_York:20191110T150000
DTEND;TZID=America/New_York:20191110T170000
DTSTAMP:20260419T233349
CREATED:20190929T132343Z
LAST-MODIFIED:20191018T045509Z
UID:6057-1573398000-1573405200@orlandoconcertband.org
SUMMARY:Let Freedom Ring
DESCRIPTION:The Orlando Concert Band and organist Michael Petrosh salute the Armed Forces with a free Veterans Day concert featuring favorites like Battle Hymn of the Republic\, America the Beautiful\, God Bless America\, and rousing Sousa marches!
URL:https://orlandoconcertband.org/event/let-freedom-ring/
LOCATION:FL
ATTACH;FMTTYPE=image/jpeg:https://orlandoconcertband.org/wp-content/uploads/2015/09/banner1-1920px-1.jpg
END:VEVENT
BEGIN:VEVENT
DTSTART;TZID=America/New_York:20190704T200000
DTEND;TZID=America/New_York:20190704T220000
DTSTAMP:20260419T233349
CREATED:20190626T225215Z
LAST-MODIFIED:20190627T003352Z
UID:6039-1562270400-1562277600@orlandoconcertband.org
SUMMARY:Fireworks at the Fountain
DESCRIPTION:The Orlando Concert Band presents a concert of patriotic and American songs followed by a fireworks extravaganza.
URL:https://orlandoconcertband.org/event/fireworks-at-the-fountain/
LOCATION:Hawthorne Village Concert Hall\, 100 Hawthorne Boulevard\, Concert Hall\, Leesburg\, FL\, 34748\, United States
ATTACH;FMTTYPE=image/jpeg:https://orlandoconcertband.org/wp-content/uploads/2019/06/ocb-stage.jpg
END:VEVENT
END:VCALENDAR