BEGIN:VCALENDAR
VERSION:2.0
PRODID:-//The Orlando Concert Band - ECPv6.0.8//NONSGML v1.0//EN
CALSCALE:GREGORIAN
METHOD:PUBLISH
X-WR-CALNAME:The Orlando Concert Band
X-ORIGINAL-URL:https://orlandoconcertband.org
X-WR-CALDESC:Events for The Orlando Concert Band
REFRESH-INTERVAL;VALUE=DURATION:PT1H
X-Robots-Tag:noindex
X-PUBLISHED-TTL:PT1H
BEGIN:VTIMEZONE
TZID:America/New_York
BEGIN:DAYLIGHT
TZOFFSETFROM:-0500
TZOFFSETTO:-0400
TZNAME:EDT
DTSTART:20240310T070000
END:DAYLIGHT
BEGIN:STANDARD
TZOFFSETFROM:-0400
TZOFFSETTO:-0500
TZNAME:EST
DTSTART:20241103T060000
END:STANDARD
END:VTIMEZONE
BEGIN:VEVENT
DTSTART;TZID=America/New_York:20241206T190000
DTEND;TZID=America/New_York:20241206T220000
DTSTAMP:20260421T034640
CREATED:20241107T132854Z
LAST-MODIFIED:20241107T132854Z
UID:6646-1733511600-1733522400@orlandoconcertband.org
SUMMARY:Holiday Favorites with Flamenco del Sol
DESCRIPTION:Holiday Favorites with Flamenco del Sol
URL:https://orlandoconcertband.org/event/holiday-favorites-with-flamenco-del-sol/
LOCATION:Lake Eola Park: Walt Disney Amphitheater\, 195 N. Rosalind Ave.\, Orlando\, FL\, 32801\, United States
END:VEVENT
END:VCALENDAR