BEGIN:VCALENDAR
VERSION:2.0
PRODID:-//The Orlando Concert Band - ECPv6.0.8//NONSGML v1.0//EN
CALSCALE:GREGORIAN
METHOD:PUBLISH
X-ORIGINAL-URL:https://orlandoconcertband.org
X-WR-CALDESC:Events for The Orlando Concert Band
REFRESH-INTERVAL;VALUE=DURATION:PT1H
X-Robots-Tag:noindex
X-PUBLISHED-TTL:PT1H
BEGIN:VTIMEZONE
TZID:America/New_York
BEGIN:DAYLIGHT
TZOFFSETFROM:-0500
TZOFFSETTO:-0400
TZNAME:EDT
DTSTART:20230312T070000
END:DAYLIGHT
BEGIN:STANDARD
TZOFFSETFROM:-0400
TZOFFSETTO:-0500
TZNAME:EST
DTSTART:20231105T060000
END:STANDARD
END:VTIMEZONE
BEGIN:VEVENT
DTSTART;TZID=America/New_York:20231112T140000
DTEND;TZID=America/New_York:20231112T170000
DTSTAMP:20260420T031008
CREATED:20231006T130035Z
LAST-MODIFIED:20231006T130538Z
UID:6566-1699797600-1699808400@orlandoconcertband.org
SUMMARY:A Tribute to Our Veterans
DESCRIPTION:A Tribute to Our Veterans \nSunday\, November 12\, 2023  *  2:00 PM \nCathedral Church of St. Luke\, Orlando
URL:https://orlandoconcertband.org/event/a-tribute-to-our-veterans/
LOCATION:Cathedral Church of Saint Luke\, 130 N. Magnolia Avenue\, Orlando\, FL\, 32801\, United States
ATTACH;FMTTYPE=image/jpeg:https://orlandoconcertband.org/wp-content/uploads/2023/10/tribute_to_vets.jpg
END:VEVENT
END:VCALENDAR